BEGIN:VCALENDAR
VERSION:2.0
PRODID:-//Tukios.com/
BEGIN:VEVENT
UID:b37a4093-941c-4b25-9fca-7a9606c99aa5@www.duesterbergfredrick.com
DTSTAMP:20260419T144028Z
DTSTART:20260421T150000Z
DTEND:20260421T170000Z
SUMMARY:Visitation
DESCRIPTION:
URL:https://www.duesterbergfredrick.com/obituaries/almeda-miley
LOCATION:Duesterberg-Fredrick Funeral Home 521 Vigo Street   Vincennes IN 
	47591
GEO:38.676098;-87.530809
END:VEVENT
END:VCALENDAR