BEGIN:VCALENDAR
VERSION:2.0
PRODID:-//Tukios.com/
BEGIN:VEVENT
UID:2b490fe4-7f1b-4fbc-b6c0-58ffaa4512a4@www.duesterbergfredrick.com
DTSTAMP:20260419T144323Z
DTSTART:20260421T170000Z
DTEND:20260421T180000Z
SUMMARY:Funeral Service
DESCRIPTION:
URL:https://www.duesterbergfredrick.com/obituaries/almeda-miley
LOCATION:Duesterberg-Fredrick Funeral Home 521 Vigo Street   Vincennes IN 
	47591
GEO:38.676098;-87.530809
END:VEVENT
END:VCALENDAR